BEGIN:VCALENDAR
VERSION:2.0
PRODID:-//NapFényHáz Kulturális Kreatív Műhely//NONSGML kigkonsult.se iCalc
 reator 2.30.10//
CALSCALE:GREGORIAN
METHOD:PUBLISH
UID:1eb3196a-5bde-4778-a9e9-9d933bb04898
X-WR-CALNAME:iCagenda
X-WR-CALDESC:Event Management Extension for Joomla!
X-WR-RELCALID:3E26604A-50F4-4449-8B3E-E4F4932D05B5
X-WR-TIMEZONE:UTC
BEGIN:VTIMEZONE
TZID:UTC
END:VTIMEZONE
BEGIN:VEVENT
UID:0a880787-3076-4ba3-9bc8-7eb6bcbc732b
DTSTAMP:20260419T155923Z
CATEGORIES:Kreatív programok
CLASS:PUBLIC
DESCRIPTION;ALTREP="CID:<FFFF__=0ABBE548DFE235B58f9e8a93d@coffeebean.com>":
 A páva az örök élet szimbólumaA középkori ábrázolásokban lélekmadárként sz
 erepel\, majd később megváltozott értelmezése\, s így lassan a gőg és a hi
 úság jelképévé lett. Nehéz lenne a történelmi pillanatot meghatározni\, am
 ikor őseink ezzel a madárral találkoztak\, a jelentése alapján keleti gyök
 erekre gondolhatunk. A Jelképtár szerint a teljesség és a hatalmasság jelk
 épe. Farka az univerzum szimbóluma\, kitárulkozása a lélek kitárulkozásáva
 l azonos. Népköltészetünkben az örök szerelem jelképe\, a csábítás madara\
 , akárcsak Indiában.\nA páva Indiában napjainkban is szent állatként tiszt
 elt madár\, a madarak királya. Mint ilyen\, nagy megbecsülésnek örvend\, 1
 963. január 31-től hivatalosan is India nemzeti madara lett.Története term
 észetesen régebbi\, őshazája Kelet-India és innen terjedt el. Túl magas te
 rületekre nem megy föl\, de 1000-1500 méteren még megtalálhatjuk a hegyekb
 en is. Hangja meglehetősen kellemetlen\, repülni nem igazán tud\, de szíve
 sen köszönti a napfelkeltét a háztetőről. Sok szép madarat találhatunk a t
 ermészetben\, de a páva valóban nagyon különleges\, aki látta\, nem felejt
 heti el. Talán ebből adódik\, hogy mindig megihlette a művészeket. A legős
 ibb emlékek a népművészetben maradtak ránk\, úgy Indiában\, mint hazánkban
 .\nAz irodalomban a szépség\, a tánc ritmusa\, a virág szépsége\, a tökéle
 tes harmónia\, az ideális szerető szimbólumaiként jelenik meg. Szikkimben 
 úgy tartják\, létezik a „Pávák országa”\, s ezt a madarat Isten Atiaryak k
 érésére és védelmére teremtette. A démonok elleni harcában a páva segített
 e különleges képességeivel. A páva varázslatos táncával megbabonázta az el
 lenséget\, s így győzte le őket Atiaryak. A pávát mindig az emberek segítő
 jeként látjuk\, sok különleges\, misztikus képességgel bír. Gyakorta talál
 kozhatunk velük népmesékben és népdalokban Indiában is\, a pávatáncok ezek
 et a történeteket mesélik el.A tanfolyam alatt 25x30 cm-es vászonképet kés
 zítünk. Megtervezzük a páva alakját\, megrajzoljuk\, majd pontfestéssel el
 készítjük a képet.&nbsp\;\nA program ára 14.000 Ft\, mely minden anyagkölt
 séget tartalmaz. Időtartama: 5-6 óra.&nbsp\;
DTSTART:20221227T140000Z
DTEND:20221227T140000Z
GEO:00;0
LOCATION:
ORGANIZER:
SEQUENCE:1
SUMMARY:Pontról-pontra: Pávafestés pontozásos technikával
TRANSP:OPAQUE
URL:https://napfenyhazmuhely.hu/programok/41-pontrol-pontra-pavafestes-pont
 ozasos-technikaval/2022-12-27-14-00
END:VEVENT
END:VCALENDAR
